Workbook
Name _72ч: 'общие сведения'!$A$176
Name _ftn1: ЭЗ!#REF!
Name _ftn2: ЭЗ!#REF!
Name _ftnref1: ЭЗ!#REF!
Name _ftnref2: ЭЗ!#REF!
Name _дпо: 'общие сведения'!$A$183
Name _рек3: 'общие сведения'!$A$185
Name FIO: ЭЗ!$O$41
Name FIO: #REF!
Name proverka: ЭЗ!$D$578
Name proverka: #REF!
Name Аспирант_100: ЭЗ!$AF$519
Name Аспирант_100: #REF!
Name версия: 'общие сведения'!$K$1
Name вид_ЭЗ: 'общие сведения'!$H$20
Name ВПО_ПП_0: ЭЗ!$X$515
Name ВПО_ПП_0: #REF!
Name Всего: ЭЗ!$AN$530
Name Всего: #REF!
Name вуз_1: 'общие сведения'!$B$48
Name вуз_2: 'общие сведения'!$B$52
Name вуз_3: 'общие сведения'!$B$56
Name вывод1: 'общие сведения'!$F$79
Name год: 'общие сведения'!$H$107
Name год_вуз_1: 'общие сведения'!$E$50
Name год_вуз_2: 'общие сведения'!$E$54
Name год_вуз_3: 'общие сведения'!$E$58
Name год_доп_по: 'общие сведения'!$H$64
Name датаПрисв_ОС: 'общие сведения'!$I$41
Name долж_ОС: 'общие сведения'!$C$34
Name доп_по: 'общие сведения'!$B$66
Name ЗаявлКатег_ОС: 'общие сведения'!$D$43
Name итого_1: ЭЗ!$BJ$116
Name итого_2: ЭЗ!$BJ$163
Name итого_3: ЭЗ!$BJ$277
Name катег_ОС: 'общие сведения'!$D$41
Name кол_ЭГ: 'общие сведения'!$F$96
Name Курсы_0: ЭЗ!$X$510
Name Курсы_0: #REF!
Name место_ОС: 'общие сведения'!$C$31
Name МуницОбр_ОС: 'общие сведения'!$G$29
Name налич_кат: 'общие сведения'!$F$41
Name Ном_: ЭЗ!$BE$1
Name порог_в: ЭЗ!$X$528
Name порог_в: #REF!
Name порог_п: ЭЗ!$X$527
Name порог_п: #REF!
Name рез_2: 'общие сведения'!$A$91
Name рез_3: 'общие сведения'!$A$92
Name рек_итог: 'общие сведения'!$M$177
Name рек_общ: 'общие сведения'!$M$176
Name рек2: 'общие сведения'!$I$86
Name рек3: 'общие сведения'!$I$89
Name специал_ОС: 'общие сведения'!$C$35
Name стаж_ОС: 'общие сведения'!$D$40
Name фио_1чл: 'общие сведения'!$C$100
Name фио_2чл: 'общие сведения'!$C$102
Name фио_3чл: 'общие сведения'!$C$104
Name фио_ОС: 'общие сведения'!$C$27
Name фио_предс: 'общие сведения'!$C$98

Sheet общие сведения
A1: =A115 -> Введите данные в ячейки, выделенные голубым и зеленым цветом | S1: ЭЗ - авг.2016 г.
A3: (Приказ Министерства образования и науки РФ от 7 апреля 2014 г. № 276 «Об утверждении Порядка проведения аттестации педагогических работников организаций, осуществляющих образовательную деятельность») | L3: школа | M3: государственных, муниципальных и частных организаций Московской области, осуществляющих образовательную деятельность
A4: Зональное объединение: | B4: 1 | E4: =VLOOKUP(A118,$A$118:$H$130,$B$4+1) -> Балашиха | H4: Экспертное заключение об уровне квалификации педагогического работника | L4: формулы для названия ЭЗ: | O4: первая | P4: высшая | R4: #ЭЗ
E5: =VLOOKUP(A119,$A$118:$H$130,$B$4+1) -> Ногинский | L5: =IF(L19="учителя",M21,M22) -> учителя физической культуры | O5: =IF($L$19="учителя",O21,O22) -> 680 | P5: =IF($L$19="учителя",P21,P22) -> 1280 | R5: =IF(H20=N13,VLOOKUP(L7,Q8:R11,2),5) -> 5
E6: =VLOOKUP(A120,$A$118:$H$130,$B$4+1) -> Орехово-Зуево
E7: =VLOOKUP(A121,$A$118:$H$130,$B$4+1) -> Орехово-Зуевский | L7: =CONCATENATE(L8,L9,L10,L11) -> без учета результатов основного государственного экзамена (ОГЭ) и единого государственного экзамена (ЕГЭ) | O7: первая | P7: высшая
E8: =VLOOKUP(A122,$A$118:$H$130,$B$4+1) -> Павлово-Посадский | H8: государственных, муниципальных и частных образовательных организаций Московской области | L8: =IF(AND($I$21="нет",$I$22="нет"),Q8,"") -> без учета результатов основного государственного экзамена (ОГЭ) и единого государственного экзамена (ЕГЭ) | N8: без ОГЭ и ЕГЭ | O8: =O10-100 -> 820 | P8: =P10-200 -> 1510 | Q8: без учета результатов основного государственного экзамена (ОГЭ) и единого государственного экзамена (ЕГЭ) | R8: 1
E9: =VLOOKUP(A123,$A$118:$H$130,$B$4+1) -> Реутов | L9: =IF(AND($I$21="да",$I$22="нет"),Q9,"") | N9: с ОГЭ | O9: =O11 -> 870 | P9: =P11 -> 1610 | Q9: с учетом результатов основного государственного экзамена (ОГЭ) | R9: 2
E10: =VLOOKUP(A124,$A$118:$H$130,$B$4+1) -> Черноголовка | L10: =IF(AND($I$21="да",$I$22="да"),Q10,"") | N10: с ОГЭ и ЕГЭ | O10: 920 | P10: 1710 | Q10: с учетом результатов основного государственного экзамена (ОГЭ) и единого государственного экзамена (ЕГЭ) | R10: 3
E11: =VLOOKUP(A125,$A$118:$H$130,$B$4+1) -> Электрогорск | L11: =IF(AND($I$21="нет",$I$22="да"),Q11,"") | N11: с ЕГЭ | O11: =O10-50 -> 870 | P11: =P10-100 -> 1610 | Q11: с учетом результатов единого государственного экзамена (ЕГЭ) | R11: 4
E12: =VLOOKUP(A126,$A$118:$H$130,$B$4+1) -> Электросталь | L12: формула расч.кол-во ГИА-ЕГЭ "да" --> | M12: =COUNTIF(I21:I22,"да") -> 0
E13: =VLOOKUP(A127,$A$118:$H$130,$B$4+1) -> 0 | I13: ( учителя/ преподавателя физической культуры ) | N13: основное | Q13: учителя
E14: =VLOOKUP(A128,$A$118:$H$130,$B$4+1) -> 0 | N14: преподаватель физ-ры проф.орг. | O14: 650 | P14: 1340 | Q14: преподавателя физической культуры | R14: физическая культура
E15: =VLOOKUP(A129,$A$118:$H$130,$B$4+1) -> 0 | N15: уч. ИЗО | O15: 750 | P15: 1510 | Q15: учителя изобразительного искусства | R15: изобразительного искусства
E16: =VLOOKUP(A130,$A$118:$H$130,$B$4+1) -> 0 | N16: уч. музыки | O16: 710 | P16: 1450 | Q16: учителя музыки | R16: музыки
N17: уч. ОБЖ | O17: 750 | P17: 1340 | Q17: учителя основ безопасности жизнедеятельности | R17: основы безопасности жизнедеятельности
A18: Информация для выбора ЭЗ | N18: уч. технологии | O18: 770 | P18: 1540 | Q18: учителя технологии | R18: технологии
L19: =VLOOKUP($H$20,$N$13:$Q$19,4) -> учителя физической культуры | N19: уч. физ-ры обр.орг. | O19: 680 | P19: 1280 | Q19: учителя физической культуры | R19: физическая культура
G20: Вид ЭЗ: | H20: уч. физ-ры обр.орг.
A21: Работа в межаттестационный период в выпускных классах (в 9 кл. - ГИА, 11кл. - ЕГЭ) : | G21: 9 кл. | I21: нет | L21: название ЭЗ -1 основное | M21: =L19&" "&L20&" "&L7 -> учителя физической культуры без учета результатов основного государственного экзамена (ОГЭ) и единого государственного экзамена (ЕГЭ) | O21: =HLOOKUP(O7,N7:Q11,M12+2) -> 820 | P21: =HLOOKUP(P7,O7:R11,M12+2) -> 1510
G22: 11 кл. | I22: нет | L22: название ЭЗ -2 предмет. | M22: =L19&" "&L20&" "&O20 -> учителя физической культуры | O22: =VLOOKUP($H$20,$N$13:$P$20,2) -> 680 | P22: =VLOOKUP($H$20,$N$13:$P$20,3) -> 1280
A25: Общие сведения об аттестуемом педагогическом работнике: | Q25: Для выбора вида ЭЗ
L26: для листа ЭЗ | M26: без пробелов | N26: ФИО с инициалами | Q26: =N14 -> преподаватель физ-ры проф.орг.
A27: Фамилия, имя, отчество | L27: =IF(LEN(M27)>40,N27,M27) | M27: =PROPER(TRIM(C27)) | N27: =IF(M27="","",LEFT(M27,(FIND(" ",M27)+1))&"."&MID(M27,FIND(" ",M27,FIND(" ",M27)+1)+1,1)&".") | P27: =LEN(C27) -> 0 | Q27: =N15 -> уч. ИЗО
Q28: =N18 -> уч. технологии
A29: Муниципальное образование | D29: городской округ | G29: Балашиха | Q29: =N19 -> уч. физ-ры обр.орг. | R29: =N14 -> преподаватель физ-ры проф.орг.
Q30: уч. ОБЖ
A31: Место работы | L31: =LEN(C31) -> 0 | M31: =TRIM(C31)
L32: =LEN(B32) -> 0 | M32: =TRIM(B32)
L33: =LEN(B33) -> 0 | M33: =TRIM(B33)
A34: Должность | C34: =IF(вид_ЭЗ=N19,"учитель","преподаватель") -> учитель | I34: =IF(OR(специал_ОС="",H20=N13),"",IF(VLOOKUP($H$20,$N$13:$R$19,5)=специал_ОС,""," Внимание! Не совпадает с видом ЭЗ: ")) | L34: =LOWER(TRIM(C34)) -> учитель | M34: =LEN(L35) -> 27
A35: =L36 -> Специализация | C35: физическая культура | I35: =IF(специал_ОС="","",IF(VLOOKUP($H$20,$N$13:$R$19,5)=специал_ОС,"",VLOOKUP($H$20,$N$13:$R$19,5))) | L35: =IF(C34="",LOWER(TRIM(C35)),L34&" "&LOWER(TRIM(C35))) -> учитель физическая культура | M35: =IF(C34="",0,1) -> 1
B36: =IF(A35="-",IF(C34="","укажите должность, если она отсутствует в предложенном списке в строке 'Должность' ",""),"укажите специализацию (учителя/преподавателя - в именительном падеже) ") -> укажите специализацию (учителя/преподавателя - в именительном падеже) | L36: =IF(C34="","-",IF(VLOOKUP(C34,A136:C170,3)="v","Специализация","-")) -> Специализация
A38: =IF(OR(C34<>"",C35<>""),"В ЭЗ будет указана должность: ","") -> В ЭЗ будет указана должность: | C38: =L35 -> учитель физическая культура | J38: ! Не удалятьстроку
A39: =IF(D39="","","В ЭЗ будет указана квалификация:") -> #REF! | D39: =IF(C34<>"",#REF!,"") -> #REF!
A40: Стаж педагогической работы | M40: =IF(OR(H20=N14,H20=N15),"основной ступени среднего полного общего образования ","основной и старшей ступени среднего полного общего образования ") -> основной и старшей ступени среднего полного общего образования
A41: Наличие квалификационной категории | F41: дата присвоения | L41: нач. периода дат | M41: =TODAY()-5*365-90 -> 40707 | N41: =TODAY() -> 42622 | O41: =N41-5*365-40 -> 40757
M42: ( высшая до | N42: ( первая до
A43: Заявленная квалификационная категория | F43: =IF(G43="","","примеч.") | J43: =IF(G43="","","г. )") | K43: =IF(I43<>"",G43,"") | L43: =IF(I43<>"",I43,"") | M43: =IF(I43<>"",J43,"")
A45: Образование | B45: высшее | L45: высшее | M45: среднее профессиональное | N45: начальное профессиональное | O45: профессиональная переподготовка
A48: =B45 -> высшее | K48: =LEN(B48) -> 0 | L48: =TRIM(вуз_1&IF(год_вуз_1="","",", "&год_вуз_1&"г."))
B50: год окончания | K50: =IF(B50="год окончания",год+2000,6) -> 2016
K52: =LEN(B52) -> 0 | L52: =TRIM(вуз_2&IF(год_вуз_2="","",", "&год_вуз_2&"г."))
B54: год окончания | K54: =IF(B54="год окончания",год+2000,6) -> 2016
K56: =LEN(B56) -> 0 | L56: =TRIM(вуз_3&IF(год_вуз_3="","",", "&год_вуз_3&"г."))
B58: год окончания | K58: =IF(B58="год окончания",год+2000,6) -> 2016
A61: Информация о профессиональном развитии педагогического работника за межаттестационный период (для вынесения рекомендаций)
A63: Дополнительное профессиональное образование (по направлению "Образование и педагогика" либо в области, соотв. преподаваемому предмету):
A64: нет | E64: год окончания | I64: количество часов | K64: =IF(E64="год окончания",год+2000,6) -> 2016 | L64: =IF(E64="год окончания",год+2000-6,1) -> 2010 | M64: =IF(A64=N69,""," ("&A64&")")
B66: ывавыа | L66: =IF(A64=N69,"",IF(доп_по="","",TRIM(доп_по)&IF(год_доп_по+J64>0,M66,""))) | M66: =", "&год_доп_по&IF(E64="год окончания","г."," курс") -> , г.
K67: ПК | L67: Курсы повышения квалификации | N67: Список для выбора
L68: Стажировка
L69: Виртуальная стажировка | N69: нет
H70: =IF(A64="нет","нет","да") -> нет | L70: Курсы повышения квалификации и стажировка | N70: второе профессиональное образование
A71: Курсы повышения квалификации | H71: =IF(G71>=D175,"да","нет") -> нет | I71: (укажите суммарное количество часов) | L71: Курсы повышения квалификации и виртуальная стажировка | N71: профессиональная переподготовка
A73: Окончание вуза/ суза менее 3-х лет назад (молодой специалист) | G73: нет | I73: год окончания: | J73: 2009
A74: Обучение в вузе/ сузе (по направлению "Образование и педагогика") | G74: нет | I74: курс: | N74: 0
A77: Обучение в аспирантуре, соискательство | G77: нет | N77: 0
A78: Получение степени кандидата/доктора наук или звания доцента/профессора | G78: нет | I78: год получения: | N78: 0
A79: Вывод: | B79: необходимо в ЭЗ дать рекомендации ? | F79: =IF(COUNTIF(G70:H78,"да"),"нет","да") -> да | K79: Вывод1
A80: =IF(вывод1="да",_72ч,"") -> В течение одного года пройти обучение по программе повышения квалификации.
A83: Информация о соответствии квалификационным требованиям (для вынесения рекомендаций) | K83: Имена ячеек:
A85: Наличие/получение высшего или среднего профессионального образования по направлению "Образование и педагогика" либо дополнительного профессионального образования по направлению "Образование и педагогика"
I86: нет | J86: =IF(OR(G73="да",G74="да"),"да",рек2) -> нет | K86: рек2
A88: Наличие/получение высшего или среднего профессионального образования в области, соответствующей преподаваемому предмету
I89: нет | K89: рек3
A90: Вывод: | B90: необходимо в ЭЗ дать рекомендации ? | F90: =IF(AND(J86="нет",рек3="нет"),"да","нет") -> да
A91: =IF(AND(J86="нет",рек3="нет"),_дпо,"") -> Получить дополнительное профессиональное образование по направлению подготовки "Образование и педагогика". | K91: рез_2
A92: =IF(рек3="нет",_рек3,"") | K92: рез_3
A94: Состав экспертной группы:
A96: Кол-во членов экспертной группы (без председателя) | F96: 2
A98: Председатель | L98: =IF(LEN(M98)>40,N98,M98) | M98: =PROPER(TRIM(C98)) | N98: =IF(M98="","",LEFT(M98,(FIND(" ",M98)+1))&"."&MID(M98,FIND(" ",M98,FIND(" ",M98)+1)+1,1)&".")
A99: Специалисты экспертной группы: | C99: Ф.И.О.
B100: 1) | L100: =IF(LEN(M100)>40,N100,M100) | M100: =PROPER(TRIM(C100)) | N100: =IF(M100="","",LEFT(M100,(FIND(" ",M100)+1))&"."&MID(M100,FIND(" ",M100,FIND(" ",M100)+1)+1,1)&".")
C101: Ф.И.О.
B102: =IF($F$96>1,"2)","") -> 2) | L102: =IF(LEN(M102)>40,N102,M102) | M102: =PROPER(TRIM(C102)) | N102: =IF(M102="","",LEFT(M102,(FIND(" ",M102)+1))&"."&MID(M102,FIND(" ",M102,FIND(" ",M102)+1)+1,1)&".")
C103: Ф.И.О.
B104: =IF($F$96>2,"3)","") | L104: =IF(LEN(M104)>40,N104,M104) | M104: =PROPER(TRIM(C104)) | N104: =IF(M104="","",LEFT(M104,(FIND(" ",M104)+1))&"."&MID(M104,FIND(" ",M104,FIND(" ",M104)+1)+1,1)&".")
C105: Ф.И.О.
A107: Дата экспертизы: | B107: « | C107: 1 | D107: » | E107: сентября | G107: 20 | H107: 16 | I107: г.
A109: =IF(F110="","","Результат экспертизы:")
E110: =IF(F110="","","Всего набрано аттестуемым педагогическим работником ") | F110: =ЭЗ!Всего | G110: =IF(F110="","","баллов.") | I110: =IF(F110="","","(мин. П-"&ЭЗ!порог_п&", В-"&ЭЗ!порог_в&")")
A112: =IF(F110="","",CONCATENATE("Уровень квалификации ",ЭЗ!Q532, " ",ЭЗ!AL532," требованиям, предъявляемым к заявленной ",ЭЗ!T533," квалификационной категории. "))
A113: =IF(F110="","","Рекомендации: "&рек_итог)
A115: =IF(ЭЗ!A576<12,"Введите данные в ячейки, выделенные голубым и зеленым цветом","Все данные введены. Перейдите на лист ЭЗ") -> Введите данные в ячейки, выделенные голубым и зеленым цветом
B117: 1 | C117: 2 | D117: 3 | E117: 4 | F117: 5 | G117: 6 | H117: 7
A118: 1 | B118: Балашиха | C118: Власиха | D118: Бронницы | E118: Ивантеевка | F118: Дубна | G118: Домодедово | H118: Коломна
A119: 2 | B119: Ногинский | C119: Волоколамский | D119: Воскресенский | E119: Звёздный | F119: Дмитровский | G119: Климовск | H119: Егорьевск
A120: 3 | B120: Орехово-Зуево | C120: Восход | D120: Дзержинский | E120: Королев | F120: Долгопрудный | G120: Ленинский | H120: Зарайский
A121: 4 | B121: Орехово-Зуевский | C121: Звенигород | D121: Жуковский | E121: Красноармейск | F121: Клинский | G121: Подольск | H121: Кашира
A122: 5 | B122: Павлово-Посадский | C122: Истринский | D122: Котельники | E122: Лосино-Петровский | F122: Красногорский | G122: Подольский | H122: Коломенский
A123: 6 | B123: Реутов | C123: Краснознаменск | D123: Лыткарино | E123: Мытищи | F123: Лобня | G123: Протвино | H123: Луховицкий
A124: 7 | B124: Черноголовка | C124: Лотошинский | D124: Люберецкий | E124: Пушкинский | F124: Солнечногорский | G124: Пущино | H124: Озёры
A125: 8 | B125: Электрогорск | C125: Можайский | D125: Раменский | E125: Сергиево-Посадский | F125: Талдомский | G125: Серпухов | H125: Серебряные Пруды
A126: 9 | B126: Электросталь | C126: Молодежный | D126: Рошаль | E126: Фрязино | F126: Химки | G126: Серпуховский | H126: Ступинский
A127: 10 | C127: Наро-Фоминский | D127: Шатурский | E127: Щелковский | G127: Чеховский
A128: 11 | C128: Одинцовский
A129: 12 | C129: Рузский
A130: 13 | C130: Шаховская
A131: 14
...

Sheet ЭЗ
C1: Перейти на лист "общие сведения" | AE1: в конец ЭЗ | BE1: =IF('общие сведения'!C34="учитель",1,2) -> 1 | BF1: ='общие сведения'!S1 -> ЭЗ - авг.2016 г. | BJ1: оставить строку пустой, сортировать К2:N30 | BK1: д.б. до 30
BG2: ='общие сведения'!A137 -> воспитатель | BI2: ='общие сведения'!D137 -> воспитателя | BK2: =LEN(BI2) -> 11
BG3: ='общие сведения'!A138 -> воспитатель группы продленного дня | BI3: ='общие сведения'!D138 -> воспитателя ГПД | BK3: =LEN(BI3) -> 15
BG4: ='общие сведения'!A139 -> дефектолог | BI4: ='общие сведения'!D139 -> дефектолога | BK4: =LEN(BI4) -> 11
BG5: ='общие сведения'!A140 -> инструктор по труду | BI5: ='общие сведения'!D140 -> инструктора по труду | BK5: =LEN(BI5) -> 20
BG6: ='общие сведения'!A141 -> инструктор по физической культуре | BI6: ='общие сведения'!D141 -> инструктора по физ. культуре | BK6: =LEN(BI6) -> 28
BG7: ='общие сведения'!A142 -> инструктор по физическому воспитанию | BI7: ='общие сведения'!D142 -> инструктора по физ.воспитанию | BK7: =LEN(BI7) -> 29
BG8: ='общие сведения'!A143 -> инструктор-методист | BI8: ='общие сведения'!D143 -> инструктора-методиста | BK8: =LEN(BI8) -> 21
BG9: ='общие сведения'!A144 -> концертмейстер | BI9: ='общие сведения'!D144 -> концертмейстера | BK9: =LEN(BI9) -> 15
BG10: ='общие сведения'!A145 -> логопед | BI10: ='общие сведения'!D145 -> логопеда | BK10: =LEN(BI10) -> 8
BG11: ='общие сведения'!A146 -> мастер производственного обучения | BI11: ='общие сведения'!D146 -> мастера п./о. | BK11: =LEN(BI11) -> 13
BG12: ='общие сведения'!A147 -> методист | BI12: ='общие сведения'!D147 -> методиста | BK12: =LEN(BI12) -> 9
BG13: ='общие сведения'!A148 -> музыкальный руководитель | BI13: ='общие сведения'!D148 -> музыкального руководителя | BK13: =LEN(BI13) -> 25
... BG31: ='общие сведения'!A166 -> 0 | BI31: ='общие сведения'!D166 -> 0 | BK31: =LEN(BI31) -> 1
BG32: =IF(OR('общие сведения'!L34=""),"Ошибка !",VLOOKUP('общие сведения'!L34,BG1:BJ31,3)) -> учителя | BI32: =LEN(BG32) -> 7
BG33: =IF(ISERR(FIND(LEFT(BG32,5),J45)),0,1) -> 0
A34: Экспертное заключение | CY34: =вид_ЭЗ -> уч. физ-ры обр.орг.
A36: об уровне квалификации педагогического работника
A37: =IF(Ном_=1,"государственных, муниципальных и частных образовательных организаций Московской области"," профессиональных организаций Московской области, осуществляющих образовательную деятельность ") -> государственных, муниципальных и частных образовательных организаций Московской области
A39: Общие сведения об аттестуемом педагогическом работнике
A41: Фамилия, имя, отчество | O41: =IF('общие сведения'!C27<>"",PROPER(TRIM('общие сведения'!C27)),"")
A42: Место работы | J42: =IF($O$41="","",'общие сведения'!M31)
D43: =IF($O$41="","",'общие сведения'!M32)
D44: =IF($O$41="","",'общие сведения'!M33)
A45: Должность | J45: =IF(FIO="","",'общие сведения'!C34)
A46: Специализация | J46: =IF(FIO="","",'общие сведения'!C35)
A47: Муниципальное образование | Q47: =IF(FIO="","",IF('общие сведения'!D29="муниципальный район",'общие сведения'!G29,'общие сведения'!D29)) | AK47: =IF(FIO="","",IF('общие сведения'!D29="муниципальный район",'общие сведения'!D29,'общие сведения'!G29))
A48: Стаж педагогической работы | Q48: =IF(FIO="","",'общие сведения'!D40) | U48: =IF(FIO="","",'общие сведения'!E40)
A49: Наличие квалификационной категории | X49: =IF(FIO<>"",'общие сведения'!D41,"") | AF49: ='общие сведения'!F41 -> дата присвоения | AO49: =IF(OR(датаПрисв_ОС="",X49=""),"",датаПрисв_ОС)
A50: Заявленная квалификационная категория | X50: =IF(FIO<>"",'общие сведения'!D43,"")
A51: Образование | J51: =IF(FIO="","",'общие сведения'!B45)
A53: =IF(FIO="","",'общие сведения'!L48&IF('общие сведения'!L52="","","; "&'общие сведения'!L52)&IF('общие сведения'!L56="","","; "&'общие сведения'!L56))
A58: Профессиональное развитие в межаттестационный период
A59: ='общие сведения'!A71 -> Курсы повышения квалификации | AJ59: =IF(FIO="","",'общие сведения'!G71) | AO59: час.
A60: ="Дополнительное профессиональное образование"&'общие сведения'!M64 -> Дополнительное профессиональное образование
A61: =IF(FIO="","",'общие сведения'!L66)
A65: Результаты экспертизы
A66: Экспертиза профессиональной деятельности педагогического работника проводилась в соответствии с пп. 36, 37 Порядка аттестации педагогических работников организаций, осуществляющих образовательную деятельность (Приказ Министерства образования и науки РФ от 7 апреля 2014 г. № 276).
A69: По результатам экспертизы установлено:
A70: 1. | C70: =D103 -> Продуктивность образовательной деятельности | AY70: =IF(FIO="","",итого_1) | BB70: баллов
A71: 2. | C71: =D173 -> Продуктивность деятельности педагогического работника по развитию обучающихся | AY71: =IF(FIO="","",итого_2) | BB71: баллов
A72: 3. | C72: =D277 -> Продуктивность личного вклада педагогического работника в повышение качества образования | AY72: =IF(FIO="","",итого_3) | BB72: баллов
C74: Всего набрано аттестуемым педагогическим работником | AY74: =IF(FIO="","",SUM(AY70:BA73)) | BB74: баллов
C76: Уровень квалификации | Q76: =Q532&" "&AL532 | AX76: требованиям,
B77: предъявляемым к заявленной | T77: =T533 | AA77: квалификационной категории.
A79: Рекомендации
J80: =IF(FIO<>"",рек_итог,"")
B84: Председатель
B85: экспертной группы | AC85: =IF(FIO<>"",IF(фио_предс<>"",'общие сведения'!L98,""),"")
B86: Специалисты экспертной группы: | AB86: Ф.И.О.
AC87: =IF(FIO<>"",IF(фио_1чл<>"",'общие сведения'!L100,""),"")
AB88: Ф.И.О.
AC89: =IF(FIO<>"",IF(фио_2чл<>"",'общие сведения'!L102,""),"")
AB90: Ф.И.О.
A92: Дата заполнения экспертного заключения
AH93: =IF(FIO<>""," « "&'общие сведения'!C107&" » "&'общие сведения'!E107&" 20"&год&" г.","« __ » ___________ 20__ г.") -> « __ » ___________ 20__ г.
AB97: С заключением ознакомлен(а) и согласен (согласна) / не согласен (не согласна)
B98: « __ » ___________ 20__ г. | AE98: =IF(FIO<>"",FIO,"")
T99: подпись аттестуемого | AR99: Ф.И.О.
A101: РЕЗУЛЬТАТЫ ПРОФЕССИОНАЛЬНОЙ ДЕЯТЕЛЬНОСТИ
A102: =IF(Ном_=1,"учителя физической культуры","преподавателя физической культуры профессиональной организации") -> учителя физической культуры
A103: 1. | D103: Продуктивность образовательной деятельности
B104: Первая и высшая квалификационные категории устанавливаются педагогическим работникам на основе:
B105: - | C105: стабильных положительных результатов освоения обучающимися образовательных программ по итогам мониторингов, проводимых организацией, а также по итогам мониторинга системы образования (в соответствии с п. 36 Порядка аттестации);
B109: - | C109: положительной динамики результатов освоения образовательных программ по итогам мониторингов, проводимых организацией, а также положительных результатов освоения образовательных программ по итогам мониторинга системы образования (в соответствии с п. 37 Порядка аттестации).
A114: № п/п | D114: Показатели | X114: Подтверждающие документы | AH114: Количество баллов | BH114: Сум. макс.
AH115: (баллы не суммируются) | BG115: ФОРМУЛЫ | BI115: *
AH116: 0 | AP116: 50-100 | AX116: 70-120 | BI116: 1. итого = | BJ116: =SUM(BG117:BG162) -> 0
A117: 1.1. | D117: Результаты освоения обучающимися образовательных программ по итогам мониторингов, проводимых организацией (качество знаний с учетом статуса образовательной организации – Прил. № 1) | X117: Диаграммы, графи- ки и др.документы, отражающие ре- зультаты освоения обучающимися образовательных программ | AH117: Уровень освоения обучающимися образовательных программ
AH119: Низкий | AP119: Средний 50б. | AX119: Высокий 100б.
BH121: max | BI121: *
AH122: =IF(AND(AP122="",AX122=""),IF(FIO="","",0),"") | BG122: =MAX(AH122:BE123) -> 0 | BH122: 100
A124: 1.2. | D124: Динамика результатов освоения обучающимися образовательных программ по итогам мониторингов, проводимых организацией (далее – Прил. № 1) | X124: Диаграммы, графи- ки и др.документы, отражающие динамику резуль- татов освоения обучающимися образовательных программ | AH124: Отрицательная динамика результатов | AP124: Стабильные результаты | AX124: Положительная динамика результатов
AP127: стабильные - 50б. стабильно высокие - 100б. | AX127: 2-3 года - 70б. 4 года и более - 120б.
BH128: max | BI128: *
AH129: =IF(AND(AP129="",AX129=""),IF(FIO="","",0),"") | BG129: =MAX(AH129:BE130) -> 0 | BH129: 120
A131: 1.3. | D131: ="Результаты освоения обучающимися образовательных программ по итогам мониторинга системы образования"&IF('общие сведения'!N13='общие сведения'!H20,""," *") -> Результаты освоения обучающимися образовательных программ по итогам мониторинга системы образования * | X131: Диаграммы, графи- ки и др.документы, отражающие ре- зультаты освоения обучающимися образовательных программ | AH131: Уровень освоения обучающимися образовательных программ
AH133: Низкий | AP133: Средний 50б. | AX133: Высокий 100б.
BH135: max | BI135: *
D136: (далее – Прил. № 1) | AH136: =IF(AND(AP136="",AX136=""),IF(FIO="","",0),"") | BG136: =MAX(AH136:BE137) -> 0 | BH136: 100
A138: 1.4. | D138: ="Динамика результатов освоения обучающимися образовательных программ по итогам мониторинга системы образования"&IF('общие сведения'!N13='общие сведения'!H20,""," *") -> Динамика результатов освоения обучающимися образовательных программ по итогам мониторинга системы образования * | X138: Диаграммы, графи- ки и др.документы, отражающие динамику резуль- татов освоения обучающимися образовательных программ | AH138: Отрицательная динамика результатов | AP138: Стабильные результаты | AX138: Положительная динамика результатов
AP141: стабильные - 50б. стабильно высокие - 100б. | AX141: 2-3 года - 70б. 4 года и более - 120б.
D143: (далее – Прил. № 1) | BH143: max | BI143: *
AH144: =IF(AND(AP144="",AX144=""),IF(FIO="","",0),"") | BG144: =MAX(AH144:BE145) -> 0 | BH144: 120
A147: № п/п | D147: Показатели | X147: Подтверждающие документы | AH147: Количество баллов
AH148: (баллы не суммируются)
AH149: 0 | AP149: 50 | AX149: 100
A150: 1.5. | D150: =BH150 -> Результаты итоговой аттестации в форме ЕГЭ * | X150: Результаты ЕГЭ | AH150: Ниже уровня среднерегио- нальных результатов | AP150: На уровне среднерегио- нальных результатов | AX150: Выше уровня среднерегио- нальных результатов | BH150: ="Результаты итоговой аттестации в форме ЕГЭ "&VLOOKUP(BI209,BI212:BY218,3) -> Результаты итоговой аттестации в форме ЕГЭ *
D153: (средние данные за межаттестацион- ный период - см. Приложение 1)
AH154: =IF(AND(AP154="",AX154=""),IF(FIO="","",0),"") | BG154: =IF(OR('общие сведения'!$R$5=3,'общие сведения'!$R$5=4),MAX(AH154:BE155),0) -> 0 | BH154: 100
A156: 1.6. | D156: =BH156 -> Результаты итоговой аттестации в форме ГИА-9 * | X156: Результаты ГИА | AH156: Ниже уровня среднерегио- нальных результатов | AP156: На уровне среднерегио- нальных результатов | AX156: Выше уровня среднерегио- нальных результатов | BH156: ="Результаты итоговой аттестации в форме ГИА-9 "&VLOOKUP(BI209,BI212:BY218,4) -> Результаты итоговой аттестации в форме ГИА-9 *
D159: (средние данные за межаттестацион- ный период - см. Приложение 1)
AH160: =IF(AND(AP160="",AX160=""),IF(FIO="","",0),"") | BG160: =IF(OR('общие сведения'!$R$5=3,'общие сведения'!$R$5=2),MAX(AH160:BE161),0) -> 0 | BH160: 100
A163: 2. | D163: Продуктивность деятельности педагогического работника по развитию обучающихся | BG163: ! НЕ удалять | BI163: 2. итого = | BJ163: =SUM(BG164:BG276) -> 0
B164: Первая и высшая квалификационные категории устанавливаются педагогическим работникам на основе:
B165: - | C165: выявления развития у обучающихся способностей к научной (интеллектуальной), творческой, физкультурно-спортивной деятельности (в соответствии с п. 36 Порядка аттестации);
B167: - | C167: выявления и развития способностей обучающихся к научной (интеллектуальной), творческой, физкультурно-спортивной деятельности, а также их участия в олимпиадах, конкурсах, фестивалях, соревнованиях (в соответствии с п. 37 Порядка аттестации).
A172: * Бонусный показатель
A173: 2. | D173: Продуктивность деятельности педагогического работника по развитию обучающихся
B174: Первая и высшая квалификационные категории устанавливаются педагогическим работникам на основе:
...
