Workbook
Name _72ч: 'общие сведения'!$A$176
Name _ftn1: ЭЗ!#REF!
Name _ftn2: ЭЗ!#REF!
Name _ftnref1: ЭЗ!#REF!
Name _ftnref2: ЭЗ!#REF!
Name _дпо: 'общие сведения'!$A$183
Name _рек3: 'общие сведения'!$A$185
Name FIO: ЭЗ!$O$41
Name FIO: #REF!
Name proverka: ЭЗ!$D$578
Name proverka: #REF!
Name Аспирант_100: ЭЗ!$AF$519
Name Аспирант_100: #REF!
Name версия: 'общие сведения'!$K$1
Name вид_ЭЗ: 'общие сведения'!$H$20
Name ВПО_ПП_0: ЭЗ!$X$515
Name ВПО_ПП_0: #REF!
Name Всего: ЭЗ!$AN$530
Name Всего: #REF!
Name вуз_1: 'общие сведения'!$B$48
Name вуз_2: 'общие сведения'!$B$52
Name вуз_3: 'общие сведения'!$B$56
Name вывод1: 'общие сведения'!$F$79
Name год: 'общие сведения'!$H$107
Name год_вуз_1: 'общие сведения'!$E$50
Name год_вуз_2: 'общие сведения'!$E$54
Name год_вуз_3: 'общие сведения'!$E$58
Name год_доп_по: 'общие сведения'!$H$64
Name датаПрисв_ОС: 'общие сведения'!$I$41
Name долж_ОС: 'общие сведения'!$C$34
Name доп_по: 'общие сведения'!$B$66
Name ЗаявлКатег_ОС: 'общие сведения'!$D$43
Name итого_1: ЭЗ!$BJ$116
Name итого_2: ЭЗ!$BJ$163
Name итого_3: ЭЗ!$BJ$277
Name катег_ОС: 'общие сведения'!$D$41
Name кол_ЭГ: 'общие сведения'!$F$96
Name Курсы_0: ЭЗ!$X$510
Name Курсы_0: #REF!
Name место_ОС: 'общие сведения'!$C$31
Name МуницОбр_ОС: 'общие сведения'!$G$29
Name налич_кат: 'общие сведения'!$F$41
Name Ном_: ЭЗ!$BE$1
Name порог_в: ЭЗ!$X$528
Name порог_в: #REF!
Name порог_п: ЭЗ!$X$527
Name порог_п: #REF!
Name рез_2: 'общие сведения'!$A$91
Name рез_3: 'общие сведения'!$A$92
Name рек_итог: 'общие сведения'!$M$177
Name рек_общ: 'общие сведения'!$M$176
Name рек2: 'общие сведения'!$I$86
Name рек3: 'общие сведения'!$I$89
Name специал_ОС: 'общие сведения'!$C$35
Name стаж_ОС: 'общие сведения'!$D$40
Name фио_1чл: 'общие сведения'!$C$100
Name фио_2чл: 'общие сведения'!$C$102
Name фио_3чл: 'общие сведения'!$C$104
Name фио_ОС: 'общие сведения'!$C$27
Name фио_предс: 'общие сведения'!$C$98

Sheet общие сведения
A1: =A115 -> Введите данные в ячейки, выделенные голубым и зеленым цветом | S1: ЭЗ - авг.2016 г.
A3: (Приказ Министерства образования и науки РФ от 7 апреля 2014 г. № 276 «Об утверждении Порядка проведения аттестации педагогических работников организаций, осуществляющих образовательную деятельность») | L3: школа | M3: государственных, муниципальных и частных организаций Московской области, осуществляющих образовательную деятельность
A4: Зональное объединение: | B4: 1 | E4: =VLOOKUP(A118,$A$118:$H$130,$B$4+1) -> Балашиха | H4: Экспертное заключение об уровне квалификации педагогического работника | L4: формулы для названия ЭЗ: | O4: первая | P4: высшая | R4: #ЭЗ
E5: =VLOOKUP(A119,$A$118:$H$130,$B$4+1) -> Ногинский | L5: =IF(L19="учителя",M21,M22) -> учителя физической культуры | O5: =IF($L$19="учителя",O21,O22) -> 680 | P5: =IF($L$19="учителя",P21,P22) -> 1280 | R5: =IF(H20=N13,VLOOKUP(L7,Q8:R11,2),5) -> 5
E6: =VLOOKUP(A120,$A$118:$H$130,$B$4+1) -> Орехово-Зуево
E7: =VLOOKUP(A121,$A$118:$H$130,$B$4+1) -> Орехово-Зуевский | L7: =CONCATENATE(L8,L9,L10,L11) -> без учета результатов основного государственного экзамена (ОГЭ) и единого государственного экзамена (ЕГЭ) | O7: первая | P7: высшая
E8: =VLOOKUP(A122,$A$118:$H$130,$B$4+1) -> Павлово-Посадский | H8: государственных, муниципальных и частных образовательных организаций Московской области | L8: =IF(AND($I$21="нет",$I$22="нет"),Q8,"") -> без учета результатов основного государственного экзамена (ОГЭ) и единого государственного экзамена (ЕГЭ) | N8: без ОГЭ и ЕГЭ | O8: =O10-100 -> 820 | P8: =P10-200 -> 1510 | Q8: без учета результатов основного государственного экзамена (ОГЭ) и единого государственного экзамена (ЕГЭ) | R8: 1
E9: =VLOOKUP(A123,$A$118:$H$130,$B$4+1) -> Реутов | L9: =IF(AND($I$21="да",$I$22="нет"),Q9,"") | N9: с ОГЭ | O9: =O11 -> 870 | P9: =P11 -> 1610 | Q9: с учетом результатов основного государственного экзамена (ОГЭ) | R9: 2
E10: =VLOOKUP(A124,$A$118:$H$130,$B$4+1) -> Черноголовка | L10: =IF(AND($I$21="да",$I$22="да"),Q10,"") | N10: с ОГЭ и ЕГЭ | O10: 920 | P10: 1710 | Q10: с учетом результатов основного государственного экзамена (ОГЭ) и единого государственного экзамена (ЕГЭ) | R10: 3
E11: =VLOOKUP(A125,$A$118:$H$130,$B$4+1) -> Электрогорск | L11: =IF(AND($I$21="нет",$I$22="да"),Q11,"") | N11: с ЕГЭ | O11: =O10-50 -> 870 | P11: =P10-100 -> 1610 | Q11: с учетом результатов единого государственного экзамена (ЕГЭ) | R11: 4
E12: =VLOOKUP(A126,$A$118:$H$130,$B$4+1) -> Электросталь | L12: формула расч.кол-во ГИА-ЕГЭ "да" --> | M12: =COUNTIF(I21:I22,"да") -> 0
E13: =VLOOKUP(A127,$A$118:$H$130,$B$4+1) -> 0 | I13: ( учителя/ преподавателя физической культуры ) | N13: основное | Q13: учителя
E14: =VLOOKUP(A128,$A$118:$H$130,$B$4+1) -> 0 | N14: преподаватель физ-ры проф.орг. | O14: 650 | P14: 1340 | Q14: преподавателя физической культуры | R14: физическая культура
E15: =VLOOKUP(A129,$A$118:$H$130,$B$4+1) -> 0 | N15: уч. ИЗО | O15: 750 | P15: 1510 | Q15: учителя изобразительного искусства | R15: изобразительного искусства
E16: =VLOOKUP(A130,$A$118:$H$130,$B$4+1) -> 0 | N16: уч. музыки | O16: 710 | P16: 1450 | Q16: учителя музыки | R16: музыки
N17: уч. ОБЖ | O17: 750 | P17: 1340 | Q17: учителя основ безопасности жизнедеятельности | R17: основы безопасности жизнедеятельности
A18: Информация для выбора ЭЗ | N18: уч. технологии | O18: 770 | P18: 1540 | Q18: учителя технологии | R18: технологии
L19: =VLOOKUP($H$20,$N$13:$Q$19,4) -> учителя физической культуры | N19: уч. физ-ры обр.орг. | O19: 680 | P19: 1280 | Q19: учителя физической культуры | R19: физическая культура
G20: Вид ЭЗ: | H20: уч. физ-ры обр.орг.
A21: Работа в межаттестационный период в выпускных классах (в 9 кл. - ГИА, 11кл. - ЕГЭ) : | G21: 9 кл. | I21: нет | L21: название ЭЗ -1 основное | M21: =L19&" "&L20&" "&L7 -> учителя физической культуры без учета результатов основного государственного экзамена (ОГЭ) и единого государственного экзамена (ЕГЭ) | O21: =HLOOKUP(O7,N7:Q11,M12+2) -> 820 | P21: =HLOOKUP(P7,O7:R11,M12+2) -> 1510
G22: 11 кл. | I22: нет | L22: название ЭЗ -2 предмет. | M22: =L19&" "&L20&" "&O20 -> учителя физической культуры | O22: =VLOOKUP($H$20,$N$13:$P$20,2) -> 680 | P22: =VLOOKUP($H$20,$N$13:$P$20,3) -> 1280
A25: Общие сведения об аттестуемом педагогическом работнике: | Q25: Для выбора вида ЭЗ
L26: для листа ЭЗ | M26: без пробелов | N26: ФИО с инициалами | Q26: =N14 -> преподаватель физ-ры проф.орг.
A27: Фамилия, имя, отчество | L27: =IF(LEN(M27)>40,N27,M27) | M27: =PROPER(TRIM(C27)) | N27: =IF(M27="","",LEFT(M27,(FIND(" ",M27)+1))&"."&MID(M27,FIND(" ",M27,FIND(" ",M27)+1)+1,1)&".") | P27: =LEN(C27) -> 0 | Q27: =N15 -> уч. ИЗО
Q28: =N18 -> уч. технологии
A29: Муниципальное образование | D29: городской округ | G29: Балашиха | Q29: =N19 -> уч. физ-ры обр.орг. | R29: =N14 -> преподаватель физ-ры проф.орг.
Q30: уч. ОБЖ
A31: Место работы | L31: =LEN(C31) -> 0 | M31: =TRIM(C31)
L32: =LEN(B32) -> 0 | M32: =TRIM(B32)
L33: =LEN(B33) -> 0 | M33: =TRIM(B33)
A34: Должность | C34: =IF(вид_ЭЗ=N19,"учитель","преподаватель") -> учитель | I34: =IF(OR(специал_ОС="",H20=N13),"",IF(VLOOKUP($H$20,$N$13:$R$19,5)=специал_ОС,""," Внимание! Не совпадает с видом ЭЗ: ")) | L34: =LOWER(TRIM(C34)) -> учитель | M34: =LEN(L35) -> 27
A35: =L36 -> Специализация | C35: физическая культура | I35: =IF(специал_ОС="","",IF(VLOOKUP($H$20,$N$13:$R$19,5)=специал_ОС,"",VLOOKUP($H$20,$N$13:$R$19,5))) | L35: =IF(C34="",LOWER(TRIM(C35)),L34&" "&LOWER(TRIM(C35))) -> учитель физическая культура | M35: =IF(C34="",0,1) -> 1
B36: =IF(A35="-",IF(C34="","укажите должность, если она отсутствует в предложенном списке в строке 'Должность' ",""),"укажите специализацию (учителя/преподавателя - в именительном падеже) ") -> укажите специализацию (учителя/преподавателя - в именительном падеже) | L36: =IF(C34="","-",IF(VLOOKUP(C34,A136:C170,3)="v","Специализация","-")) -> Специализация
A38: =IF(OR(C34<>"",C35<>""),"В ЭЗ будет указана должность: ","") -> В ЭЗ будет указана должность: | C38: =L35 -> учитель физическая культура | J38: ! Не удалятьстроку
A39: =IF(D39="","","В ЭЗ будет указана квалификация:") -> #REF! | D39: =IF(C34<>"",#REF!,"") -> #REF!
A40: Стаж педагогической работы | M40: =IF(OR(H20=N14,H20=N15),"основной ступени среднего полного общего образования ","основной и старшей ступени среднего полного общего образования ") -> основной и старшей ступени среднего полного общего образования
A41: Наличие квалификационной категории | F41: дата присвоения | L41: нач. периода дат | M41: =TODAY()-5*365-90 -> 40707 | N41: =TODAY() -> 42622 | O41: =N41-5*365-40 -> 40757
M42: ( высшая до | N42: ( первая до
A43: Заявленная квалификационная категория | F43: =IF(G43="","","примеч.") | J43: =IF(G43="","","г. )") | K43: =IF(I43<>"",G43,"") | L43: =IF(I43<>"",I43,"") | M43: =IF(I43<>"",J43,"")
A45: Образование | B45: высшее | L45: высшее | M45: среднее профессиональное | N45: начальное профессиональное | O45: профессиональная переподготовка
...

Sheet ЭЗ
C1: Перейти на лист "общие сведения" | AE1: в конец ЭЗ | BE1: =IF('общие сведения'!C34="учитель",1,2) -> 1 | BF1: ='общие сведения'!S1 -> ЭЗ - авг.2016 г. | BJ1: оставить строку пустой, сортировать К2:N30 | BK1: д.б. до 30
BG2: ='общие сведения'!A137 -> воспитатель | BI2: ='общие сведения'!D137 -> воспитателя | BK2: =LEN(BI2) -> 11
BG3: ='общие сведения'!A138 -> воспитатель группы продленного дня | BI3: ='общие сведения'!D138 -> воспитателя ГПД | BK3: =LEN(BI3) -> 15
BG4: ='общие сведения'!A139 -> дефектолог | BI4: ='общие сведения'!D139 -> дефектолога | BK4: =LEN(BI4) -> 11
BG5: ='общие сведения'!A140 -> инструктор по труду | BI5: ='общие сведения'!D140 -> инструктора по труду | BK5: =LEN(BI5) -> 20
BG6: ='общие сведения'!A141 -> инструктор по физической культуре | BI6: ='общие сведения'!D141 -> инструктора по физ. культуре | BK6: =LEN(BI6) -> 28
BG7: ='общие сведения'!A142 -> инструктор по физическому воспитанию | BI7: ='общие сведения'!D142 -> инструктора по физ.воспитанию | BK7: =LEN(BI7) -> 29
BG8: ='общие сведения'!A143 -> инструктор-методист | BI8: ='общие сведения'!D143 -> инструктора-методиста | BK8: =LEN(BI8) -> 21
BG9: ='общие сведения'!A144 -> концертмейстер | BI9: ='общие сведения'!D144 -> концертмейстера | BK9: =LEN(BI9) -> 15
BG10: ='общие сведения'!A145 -> логопед | BI10: ='общие сведения'!D145 -> логопеда | BK10: =LEN(BI10) -> 8
BG11: ='общие сведения'!A146 -> мастер производственного обучения | BI11: ='общие сведения'!D146 -> мастера п./о. | BK11: =LEN(BI11) -> 13
BG12: ='общие сведения'!A147 -> методист | BI12: ='общие сведения'!D147 -> методиста | BK12: =LEN(BI12) -> 9
BG13: ='общие сведения'!A148 -> музыкальный руководитель | BI13: ='общие сведения'!D148 -> музыкального руководителя | BK13: =LEN(BI13) -> 25
... BG31: ='общие сведения'!A166 -> 0 | BI31: ='общие сведения'!D166 -> 0 | BK31: =LEN(BI31) -> 1
BG32: =IF(OR('общие сведения'!L34=""),"Ошибка !",VLOOKUP('общие сведения'!L34,BG1:BJ31,3)) -> учителя | BI32: =LEN(BG32) -> 7
BG33: =IF(ISERR(FIND(LEFT(BG32,5),J45)),0,1) -> 0
A34: Экспертное заключение | CY34: =вид_ЭЗ -> уч. физ-ры обр.орг.
A36: об уровне квалификации педагогического работника
A37: =IF(Ном_=1,"государственных, муниципальных и частных образовательных организаций Московской области"," профессиональных организаций Московской области, осуществляющих образовательную деятельность ") -> государственных, муниципальных и частных образовательных организаций Московской области
A39: Общие сведения об аттестуемом педагогическом работнике
A41: Фамилия, имя, отчество | O41: =IF('общие сведения'!C27<>"",PROPER(TRIM('общие сведения'!C27)),"")
A42: Место работы | J42: =IF($O$41="","",'общие сведения'!M31)
D43: =IF($O$41="","",'общие сведения'!M32)
D44: =IF($O$41="","",'общие сведения'!M33)
A45: Должность | J45: =IF(FIO="","",'общие сведения'!C34)
A46: Специализация | J46: =IF(FIO="","",'общие сведения'!C35)
A47: Муниципальное образование | Q47: =IF(FIO="","",IF('общие сведения'!D29="муниципальный район",'общие сведения'!G29,'общие сведения'!D29)) | AK47: =IF(FIO="","",IF('общие сведения'!D29="муниципальный район",'общие сведения'!D29,'общие сведения'!G29))
A48: Стаж педагогической работы | Q48: =IF(FIO="","",'общие сведения'!D40) | U48: =IF(FIO="","",'общие сведения'!E40)
A49: Наличие квалификационной категории | X49: =IF(FIO<>"",'общие сведения'!D41,"") | AF49: ='общие сведения'!F41 -> дата присвоения | AO49: =IF(OR(датаПрисв_ОС="",X49=""),"",датаПрисв_ОС)
A50: Заявленная квалификационная категория | X50: =IF(FIO<>"",'общие сведения'!D43,"")
A51: Образование | J51: =IF(FIO="","",'общие сведения'!B45)
A53: =IF(FIO="","",'общие сведения'!L48&IF('общие сведения'!L52="","","; "&'общие сведения'!L52)&IF('общие сведения'!L56="","","; "&'общие сведения'!L56))
A58: Профессиональное развитие в межаттестационный период
A59: ='общие сведения'!A71 -> Курсы повышения квалификации | AJ59: =IF(FIO="","",'общие сведения'!G71) | AO59: час.
A60: ="Дополнительное профессиональное образование"&'общие сведения'!M64 -> Дополнительное профессиональное образование
A61: =IF(FIO="","",'общие сведения'!L66)
A65: Результаты экспертизы
A66: Экспертиза профессиональной деятельности педагогического работника проводилась в соответствии с пп. 36, 37 Порядка аттестации педагогических работников организаций, осуществляющих образовательную деятельность (Приказ Министерства образования и науки РФ от 7 апреля 2014 г. № 276).
A69: По результатам экспертизы установлено:
A70: 1. | C70: =D103 -> Продуктивность образовательной деятельности | AY70: =IF(FIO="","",итого_1) | BB70: баллов
...
